BEGIN:VCALENDAR
VERSION:2.0
METHOD:PUBLISH
CALSCALE:GREGORIAN
BEGIN:VEVENT
UID:22cf53dd-39ee-41c0-84ec-2d1bf06ed19a
SEQUENCE:0
CLASS:PUBLIC
PRIORITY:5
DTSTAMP:20260423T084208Z
CREATED:20260423T084208Z
DTSTART:20260417T110000Z
SUMMARY:Présentation en salon de André JUIN
LOCATION:ESPACE FUNÉRAIRE DU LAURAGUAIS  3 avenue de la Malepere, 11150, BRAM, France
BEGIN:VALARM
TRIGGER:-PT30M
ACTION:DISPLAY
DESCRIPTION:Reminder
END:VALARM
END:VEVENT
END:VCALENDAR
