BEGIN:VCALENDAR
VERSION:2.0
METHOD:PUBLISH
CALSCALE:GREGORIAN
BEGIN:VEVENT
UID:14943769-0ddf-42ce-98fa-6817ca87508c
SEQUENCE:0
CLASS:PUBLIC
PRIORITY:5
DTSTAMP:20260423T084210Z
CREATED:20260423T084210Z
DTSTART:20260422T150000Z
SUMMARY:Cérémonie de André JUIN
BEGIN:VALARM
TRIGGER:-PT30M
ACTION:DISPLAY
DESCRIPTION:Reminder
END:VALARM
END:VEVENT
END:VCALENDAR
