BEGIN:VCALENDAR
VERSION:2.0
METHOD:PUBLISH
CALSCALE:GREGORIAN
BEGIN:VEVENT
UID:10cacc38-f2db-461a-907c-4100cd0e760c
SEQUENCE:0
CLASS:PUBLIC
PRIORITY:5
DTSTAMP:20260423T084209Z
CREATED:20260423T084209Z
DTSTART:20260422T170000Z
SUMMARY:Crémation de André JUIN
LOCATION:CREMATORIUM VILLEFRANCHE DE LAURAGAIS, 31290, VILLEFRANCHE-DE-LAURAGAIS, France
BEGIN:VALARM
TRIGGER:-PT30M
ACTION:DISPLAY
DESCRIPTION:Reminder
END:VALARM
END:VEVENT
END:VCALENDAR
