BEGIN:VCALENDAR
VERSION:2.0
METHOD:PUBLISH
CALSCALE:GREGORIAN
BEGIN:VEVENT
UID:db8749b7-46bd-4e9e-949c-4edea87ecfc1
SEQUENCE:0
CLASS:PUBLIC
PRIORITY:5
DTSTAMP:20260421T165437Z
CREATED:20260421T165437Z
DTSTART:20260418T113000Z
SUMMARY:Présentation en salon de Yvonne LAUDRIN
LOCATION:FUNERARIUM LOCMINE, 56500, LOCMINE, France
BEGIN:VALARM
TRIGGER:-PT30M
ACTION:DISPLAY
DESCRIPTION:Reminder
END:VALARM
END:VEVENT
END:VCALENDAR
