BEGIN:VCALENDAR
VERSION:2.0
METHOD:PUBLISH
CALSCALE:GREGORIAN
BEGIN:VEVENT
UID:13eca0a1-7262-4111-b891-99e6b41c695c
SEQUENCE:0
CLASS:PUBLIC
PRIORITY:5
DTSTAMP:20260421T165438Z
CREATED:20260421T165438Z
DTSTART:20260421T143000Z
SUMMARY:Cérémonie Religieuse de Yvonne LAUDRIN
LOCATION:EGLISE DE LA CHAPELLE NEUVE, 56500, LA CHAPELLE NEUVE, France
BEGIN:VALARM
TRIGGER:-PT30M
ACTION:DISPLAY
DESCRIPTION:Reminder
END:VALARM
END:VEVENT
END:VCALENDAR
