BEGIN:VCALENDAR
VERSION:2.0
METHOD:PUBLISH
CALSCALE:GREGORIAN
BEGIN:VEVENT
UID:d164c79d-f28c-4a05-867a-e5a10bf63bb0
SEQUENCE:0
CLASS:PUBLIC
PRIORITY:5
DTSTAMP:20260421T165439Z
CREATED:20260421T165439Z
DTSTART:20260421T153000Z
SUMMARY:Inhumation de Yvonne LAUDRIN
LOCATION:Cimetière La Chapelle Neuve, 56500, LA CHAPELLE NEUVE, France
BEGIN:VALARM
TRIGGER:-PT30M
ACTION:DISPLAY
DESCRIPTION:Reminder
END:VALARM
END:VEVENT
END:VCALENDAR
