BEGIN:VCALENDAR
VERSION:2.0
METHOD:PUBLISH
CALSCALE:GREGORIAN
BEGIN:VEVENT
UID:b09c9a85-1bf1-4d82-ae90-f54e3fb0d8d3
SEQUENCE:0
CLASS:PUBLIC
PRIORITY:5
DTSTAMP:20260422T134057Z
CREATED:20260422T134057Z
DTSTART:20260418T150000Z
SUMMARY:Présentation en salon de Bernard LE BRAS
LOCATION:FUNERARIUM LE BOEDEC ST NIEL Parc d'activités de la Niel, 56920, NOYAL - PONTIVY, France
BEGIN:VALARM
TRIGGER:-PT30M
ACTION:DISPLAY
DESCRIPTION:Reminder
END:VALARM
END:VEVENT
END:VCALENDAR
