BEGIN:VCALENDAR
VERSION:2.0
METHOD:PUBLISH
CALSCALE:GREGORIAN
BEGIN:VEVENT
UID:d9d18a29-05e7-436a-9ac9-d675fdd9f170
SEQUENCE:0
CLASS:PUBLIC
PRIORITY:5
DTSTAMP:20260422T134106Z
CREATED:20260422T134106Z
DTSTART:20260422T114500Z
SUMMARY:Cérémonie Civile de Bernard LE BRAS
LOCATION:CREMATORIUM DE NOYAL PONTIVY Le Burenno, 56920, NOYAL - PONTIVY, France
BEGIN:VALARM
TRIGGER:-PT30M
ACTION:DISPLAY
DESCRIPTION:Reminder
END:VALARM
END:VEVENT
END:VCALENDAR
