BEGIN:VCALENDAR
VERSION:2.0
METHOD:PUBLISH
CALSCALE:GREGORIAN
BEGIN:VEVENT
UID:e67ca5f2-63db-4cec-b572-edcece8728e3
SEQUENCE:0
CLASS:PUBLIC
PRIORITY:5
DTSTAMP:20260422T134057Z
CREATED:20260422T134057Z
DTSTART:20260422T160000Z
SUMMARY:Inhumation de Bernard LE BRAS
LOCATION:CIMETIERE DE PONTIVY Avenue Maurice Ravel, 56300, PONTIVY, France
BEGIN:VALARM
TRIGGER:-PT30M
ACTION:DISPLAY
DESCRIPTION:Reminder
END:VALARM
END:VEVENT
END:VCALENDAR
