BEGIN:VCALENDAR
VERSION:2.0
METHOD:PUBLISH
CALSCALE:GREGORIAN
BEGIN:VEVENT
UID:746516e3-6aa1-4dd2-a6d9-f281cce5f785
SEQUENCE:0
CLASS:PUBLIC
PRIORITY:5
DTSTAMP:20260422T134113Z
CREATED:20260422T134113Z
DTSTART:20260421T183000Z
SUMMARY:Mise en bière de Yvonnick BONNET
LOCATION:Résidence Funéraire de Blain, 44130, Blain
BEGIN:VALARM
TRIGGER:-PT30M
ACTION:DISPLAY
DESCRIPTION:Reminder
END:VALARM
END:VEVENT
END:VCALENDAR
