BEGIN:VCALENDAR
VERSION:2.0
METHOD:PUBLISH
CALSCALE:GREGORIAN
BEGIN:VEVENT
UID:00ab904a-6100-4d77-9adb-bb87c787b928
SEQUENCE:0
CLASS:PUBLIC
PRIORITY:5
DTSTAMP:20260422T134117Z
CREATED:20260422T134117Z
DTSTART:20260422T143000Z
SUMMARY:Cérémonie de Yvonnick BONNET
LOCATION:Eglise de BOUVRON, 44130, BOUVRON
BEGIN:VALARM
TRIGGER:-PT30M
ACTION:DISPLAY
DESCRIPTION:Reminder
END:VALARM
END:VEVENT
END:VCALENDAR
