BEGIN:VCALENDAR
VERSION:2.0
METHOD:PUBLISH
CALSCALE:GREGORIAN
BEGIN:VEVENT
UID:02c1ee97-5c08-40f4-9888-20d75bccb43f
SEQUENCE:0
CLASS:PUBLIC
PRIORITY:5
DTSTAMP:20260422T134113Z
CREATED:20260422T134113Z
DTSTART:20260422T153000Z
SUMMARY:Inhumation de Yvonnick BONNET
LOCATION:CIMETIERE DE BOUVON, 44130, BOUVRON
BEGIN:VALARM
TRIGGER:-PT30M
ACTION:DISPLAY
DESCRIPTION:Reminder
END:VALARM
END:VEVENT
END:VCALENDAR
