BEGIN:VCALENDAR
VERSION:2.0
METHOD:PUBLISH
CALSCALE:GREGORIAN
BEGIN:VEVENT
UID:54b70119-329e-40c7-817b-5767f95882ca
SEQUENCE:0
CLASS:PUBLIC
PRIORITY:5
DTSTAMP:20260422T134102Z
CREATED:20260422T134102Z
DTSTART:20260422T080000Z
SUMMARY:PRESENTATION EN SALON de Nicole Portelli
LOCATION:La centrale du Funéraire, 586 avenue de l'Europe 34170 Castelnau-le-Lez. En face de l'arrêt de tram Clairval, ligne 2., 34170, Castelnau-Le-Lez
BEGIN:VALARM
TRIGGER:-PT30M
ACTION:DISPLAY
DESCRIPTION:Reminder
END:VALARM
END:VEVENT
END:VCALENDAR
