BEGIN:VCALENDAR
VERSION:2.0
METHOD:PUBLISH
CALSCALE:GREGORIAN
BEGIN:VEVENT
UID:8e087e41-2595-40ce-815c-f7b88d824788
SEQUENCE:0
CLASS:PUBLIC
PRIORITY:5
DTSTAMP:20260422T134058Z
CREATED:20260422T134058Z
DTSTART:20260422T160000Z
SUMMARY:FERMETURE DU CERCUEIL de Nicole Portelli
LOCATION:La centrale du Funéraire, 586 avenue de l'Europe 34170 Castelnau-le-Lez. En face de l'arrêt de tram Clairval, ligne 2., 34170, Castelnau-Le-Lez
BEGIN:VALARM
TRIGGER:-PT30M
ACTION:DISPLAY
DESCRIPTION:Reminder
END:VALARM
END:VEVENT
END:VCALENDAR
