BEGIN:VCALENDAR
VERSION:2.0
METHOD:PUBLISH
CALSCALE:GREGORIAN
BEGIN:VEVENT
UID:6c3c722a-cb25-4579-be64-24cd4f265c32
SEQUENCE:0
CLASS:PUBLIC
PRIORITY:5
DTSTAMP:20260422T134112Z
CREATED:20260422T134112Z
DTSTART:20260418T080000Z
DTEND:20260422T080000Z
SUMMARY:Présentation en salon funéraire de Yvonnick BONNET
LOCATION:Résidence funéraire de Blain - Pompes funèbres de l'Ouest, 44130, Blain
BEGIN:VALARM
TRIGGER:-PT30M
ACTION:DISPLAY
DESCRIPTION:Reminder
END:VALARM
END:VEVENT
END:VCALENDAR
