BEGIN:VCALENDAR
VERSION:2.0
METHOD:PUBLISH
CALSCALE:GREGORIAN
BEGIN:VEVENT
UID:09bc3279-6719-4fc0-aab0-ad10f88f9276
SEQUENCE:0
CLASS:PUBLIC
PRIORITY:5
DTSTAMP:20260422T134117Z
CREATED:20260422T134117Z
DTSTART:20260422T113000Z
SUMMARY:Fermeture du cercueil de Yvonnick BONNET
LOCATION:Résidence funéraire de Blain - Pompes funèbres de l'Ouest, 44130, Blain
BEGIN:VALARM
TRIGGER:-PT30M
ACTION:DISPLAY
DESCRIPTION:Reminder
END:VALARM
END:VEVENT
END:VCALENDAR
