BEGIN:VCALENDAR
VERSION:2.0
METHOD:PUBLISH
CALSCALE:GREGORIAN
BEGIN:VEVENT
UID:bfb649fb-b195-480a-a0f2-9420de1ef5da
SEQUENCE:0
CLASS:PUBLIC
PRIORITY:5
DTSTAMP:20260421T165432Z
CREATED:20260421T165432Z
DTSTART:20260419T110000Z
SUMMARY:Présentation en salon de Gilles LAROCHE
LOCATION:ESPACE FUNERAIRE DU TRAPEL rue du pic de nore, 11620, VILLEMOUSTAUSSOU, France
BEGIN:VALARM
TRIGGER:-PT30M
ACTION:DISPLAY
DESCRIPTION:Reminder
END:VALARM
END:VEVENT
END:VCALENDAR
