BEGIN:VCALENDAR
VERSION:2.0
METHOD:PUBLISH
CALSCALE:GREGORIAN
BEGIN:VEVENT
UID:1071d30e-ff52-4c4f-a16e-7ba9eb60cf96
SEQUENCE:0
CLASS:PUBLIC
PRIORITY:5
DTSTAMP:20260421T165429Z
CREATED:20260421T165429Z
DTSTART:20260421T103000Z
SUMMARY:Cérémonie Religieuse de Gilles LAROCHE
LOCATION:CRÉMATORIUM DE TREBES Z.A DE SAUTES, Rue du commerce, 11800, TREBES
BEGIN:VALARM
TRIGGER:-PT30M
ACTION:DISPLAY
DESCRIPTION:Reminder
END:VALARM
END:VEVENT
END:VCALENDAR
