BEGIN:VCALENDAR
VERSION:2.0
METHOD:PUBLISH
CALSCALE:GREGORIAN
BEGIN:VEVENT
UID:3c51c84b-d149-430e-9ebc-21a627609a8e
SEQUENCE:0
CLASS:PUBLIC
PRIORITY:5
DTSTAMP:20260421T165433Z
CREATED:20260421T165433Z
DTSTART:20260421T110000Z
SUMMARY:Crémation de Gilles LAROCHE
LOCATION:CRÉMATORIUM DE TREBES Z.A DE SAUTES, Rue du commerce, 11800, TREBES, France
BEGIN:VALARM
TRIGGER:-PT30M
ACTION:DISPLAY
DESCRIPTION:Reminder
END:VALARM
END:VEVENT
END:VCALENDAR
