BEGIN:VCALENDAR
VERSION:2.0
METHOD:PUBLISH
CALSCALE:GREGORIAN
BEGIN:VEVENT
UID:46ab4df1-8ba3-42fa-9b41-36e14b440ba9
SEQUENCE:0
CLASS:PUBLIC
PRIORITY:5
DTSTAMP:20260421T165433Z
CREATED:20260421T165433Z
DTSTART:20260421T150000Z
SUMMARY:Inhumation de Gilles LAROCHE
LOCATION:CIMETIÈRE SAINT VINCENT
BEGIN:VALARM
TRIGGER:-PT30M
ACTION:DISPLAY
DESCRIPTION:Reminder
END:VALARM
END:VEVENT
END:VCALENDAR
