BEGIN:VCALENDAR
VERSION:2.0
METHOD:PUBLISH
CALSCALE:GREGORIAN
BEGIN:VEVENT
UID:be6b1b94-473a-4ca4-86ff-815034ca0bef
SEQUENCE:0
CLASS:PUBLIC
PRIORITY:5
DTSTAMP:20260422T134111Z
CREATED:20260422T134111Z
DTSTART:20260420T140000Z
SUMMARY:Présentation en salon de Joël LE PAIH
LOCATION:FUNERARIUM DU PAYS DE BAUD ZA de Kermarrec, 56150, BAUD, France
BEGIN:VALARM
TRIGGER:-PT30M
ACTION:DISPLAY
DESCRIPTION:Reminder
END:VALARM
END:VEVENT
END:VCALENDAR
