BEGIN:VCALENDAR
VERSION:2.0
METHOD:PUBLISH
CALSCALE:GREGORIAN
BEGIN:VEVENT
UID:0f69982a-ea6a-47b7-b022-04a92cbaf441
SEQUENCE:0
CLASS:PUBLIC
PRIORITY:5
DTSTAMP:20260422T134115Z
CREATED:20260422T134115Z
DTSTART:20260420T133000Z
SUMMARY:Présentation en salon de Jacques LE PIPEC
LOCATION:FUNERARIUM LE BOEDEC ST NIEL Parc d'activités de la Niel, 56920, NOYAL - PONTIVY, France
BEGIN:VALARM
TRIGGER:-PT30M
ACTION:DISPLAY
DESCRIPTION:Reminder
END:VALARM
END:VEVENT
END:VCALENDAR
