BEGIN:VCALENDAR
VERSION:2.0
METHOD:PUBLISH
CALSCALE:GREGORIAN
BEGIN:VEVENT
UID:a9a3bc85-435b-4261-a54e-57a2c61ec96a
SEQUENCE:0
CLASS:PUBLIC
PRIORITY:5
DTSTAMP:20260422T134116Z
CREATED:20260422T134116Z
DTSTART:20260423T143000Z
SUMMARY:Cérémonie Religieuse de Jacques LE PIPEC
LOCATION:EGLISE DE NEULLIAC, France
BEGIN:VALARM
TRIGGER:-PT30M
ACTION:DISPLAY
DESCRIPTION:Reminder
END:VALARM
END:VEVENT
END:VCALENDAR
