BEGIN:VCALENDAR
VERSION:2.0
METHOD:PUBLISH
CALSCALE:GREGORIAN
BEGIN:VEVENT
UID:27069c7a-3517-4eb2-bb21-d34301ac9bf7
SEQUENCE:0
CLASS:PUBLIC
PRIORITY:5
DTSTAMP:20260422T134104Z
CREATED:20260422T134104Z
DTSTART:20260424T100000Z
SUMMARY:CEREMONIE RELIGIEUSE de Antoine Napoleon
LOCATION:Eglise St Jean-Baptiste, 34170, CASTELNAU LE LEZ
BEGIN:VALARM
TRIGGER:-PT30M
ACTION:DISPLAY
DESCRIPTION:Reminder
END:VALARM
END:VEVENT
END:VCALENDAR
