BEGIN:VCALENDAR
VERSION:2.0
METHOD:PUBLISH
CALSCALE:GREGORIAN
BEGIN:VEVENT
UID:2063a9c5-0a44-48bd-ba87-7e0d86181650
SEQUENCE:0
CLASS:PUBLIC
PRIORITY:5
DTSTAMP:20260422T134058Z
CREATED:20260422T134058Z
DTSTART:20260424T120000Z
SUMMARY:CREMATION de Antoine Napoleon
LOCATION:Complexe Funéraire de Grammont, 34000, MONTPELLIER
BEGIN:VALARM
TRIGGER:-PT30M
ACTION:DISPLAY
DESCRIPTION:Reminder
END:VALARM
END:VEVENT
END:VCALENDAR
