BEGIN:VCALENDAR
VERSION:2.0
METHOD:PUBLISH
CALSCALE:GREGORIAN
BEGIN:VEVENT
UID:817d2a29-f7e8-448b-be9b-bd739920921c
SEQUENCE:0
CLASS:PUBLIC
PRIORITY:5
DTSTAMP:20260422T134059Z
CREATED:20260422T134059Z
DTSTART:20260424T163000Z
SUMMARY:INHUMATION de Antoine Napoleon
LOCATION:Cimetière Saint Lazare, 34000, MONTPELLIER
BEGIN:VALARM
TRIGGER:-PT30M
ACTION:DISPLAY
DESCRIPTION:Reminder
END:VALARM
END:VEVENT
END:VCALENDAR
