BEGIN:VCALENDAR
VERSION:2.0
METHOD:PUBLISH
CALSCALE:GREGORIAN
BEGIN:VEVENT
UID:3674abb3-0190-43c2-9529-11768cd5a121
SEQUENCE:0
CLASS:PUBLIC
PRIORITY:5
DTSTAMP:20260422T134104Z
CREATED:20260422T134104Z
DTSTART:20260422T090000Z
SUMMARY:VISITES CHAMBRE FUNERAIRE de Antoine Napoleon
LOCATION:586 avenue de l'europe, 34170, CASTELNAU LE LEZ
BEGIN:VALARM
TRIGGER:-PT30M
ACTION:DISPLAY
DESCRIPTION:Reminder
END:VALARM
END:VEVENT
END:VCALENDAR
