BEGIN:VCALENDAR
VERSION:2.0
METHOD:PUBLISH
CALSCALE:GREGORIAN
BEGIN:VEVENT
UID:034fa06e-e283-4778-ab54-41da010c7ef0
SEQUENCE:0
CLASS:PUBLIC
PRIORITY:5
DTSTAMP:20260422T134101Z
CREATED:20260422T134101Z
DTSTART:20260424T091500Z
SUMMARY:FERMETURE DU CERCUEIL de Antoine Napoleon
LOCATION:586 avenue de l'europe, 34170, CASTELNAU LE LEZ
BEGIN:VALARM
TRIGGER:-PT30M
ACTION:DISPLAY
DESCRIPTION:Reminder
END:VALARM
END:VEVENT
END:VCALENDAR
